BEGIN:VCALENDAR
VERSION:2.0
PRODID:-//immelieb.de - ECPv6.15.20//NONSGML v1.0//EN
CALSCALE:GREGORIAN
METHOD:PUBLISH
X-ORIGINAL-URL:https://www.immelieb.de
X-WR-CALDESC:Veranstaltungen für immelieb.de
REFRESH-INTERVAL;VALUE=DURATION:PT1H
X-Robots-Tag:noindex
X-PUBLISHED-TTL:PT1H
BEGIN:VTIMEZONE
TZID:Europe/Berlin
BEGIN:DAYLIGHT
TZOFFSETFROM:+0100
TZOFFSETTO:+0200
TZNAME:CEST
DTSTART:20230326T010000
END:DAYLIGHT
BEGIN:STANDARD
TZOFFSETFROM:+0200
TZOFFSETTO:+0100
TZNAME:CET
DTSTART:20231029T010000
END:STANDARD
BEGIN:DAYLIGHT
TZOFFSETFROM:+0100
TZOFFSETTO:+0200
TZNAME:CEST
DTSTART:20240331T010000
END:DAYLIGHT
BEGIN:STANDARD
TZOFFSETFROM:+0200
TZOFFSETTO:+0100
TZNAME:CET
DTSTART:20241027T010000
END:STANDARD
BEGIN:DAYLIGHT
TZOFFSETFROM:+0100
TZOFFSETTO:+0200
TZNAME:CEST
DTSTART:20250330T010000
END:DAYLIGHT
BEGIN:STANDARD
TZOFFSETFROM:+0200
TZOFFSETTO:+0100
TZNAME:CET
DTSTART:20251026T010000
END:STANDARD
END:VTIMEZONE
BEGIN:VEVENT
DTSTART;TZID=Europe/Berlin:20241105T190000
DTEND;TZID=Europe/Berlin:20241105T210000
DTSTAMP:20260419T165805
CREATED:20240310T213420Z
LAST-MODIFIED:20240310T213443Z
UID:4639-1730833200-1730840400@www.immelieb.de
SUMMARY:Seminar 8: Stark und gesund - was ist im Winter noch zu tun? (Theorie)
DESCRIPTION:2024 Einsteigerkurse an 53 Kursorten
URL:https://www.immelieb.de/event/seminar-8-stark-und-gesund-was-ist-im-winter-noch-zu-tun-theorie/
CATEGORIES:Einsteigerkurs
ATTACH;FMTTYPE=image/jpeg:https://www.immelieb.de/wordpress/wp-content/uploads/2021/01/einsteigerkurs_2021_header-e1708805928845.jpg
ORGANIZER;CN="Dr. Pia Aumeier":MAILTO:info@piaaumeier.de
END:VEVENT
END:VCALENDAR