BEGIN:VCALENDAR
VERSION:2.0
PRODID:-//immelieb.de - ECPv6.15.20//NONSGML v1.0//EN
CALSCALE:GREGORIAN
METHOD:PUBLISH
X-ORIGINAL-URL:https://www.immelieb.de
X-WR-CALDESC:Veranstaltungen für immelieb.de
REFRESH-INTERVAL;VALUE=DURATION:PT1H
X-Robots-Tag:noindex
X-PUBLISHED-TTL:PT1H
BEGIN:VTIMEZONE
TZID:Europe/Berlin
BEGIN:DAYLIGHT
TZOFFSETFROM:+0100
TZOFFSETTO:+0200
TZNAME:CEST
DTSTART:20250330T010000
END:DAYLIGHT
BEGIN:STANDARD
TZOFFSETFROM:+0200
TZOFFSETTO:+0100
TZNAME:CET
DTSTART:20251026T010000
END:STANDARD
BEGIN:DAYLIGHT
TZOFFSETFROM:+0100
TZOFFSETTO:+0200
TZNAME:CEST
DTSTART:20260329T010000
END:DAYLIGHT
BEGIN:STANDARD
TZOFFSETFROM:+0200
TZOFFSETTO:+0100
TZNAME:CET
DTSTART:20261025T010000
END:STANDARD
BEGIN:DAYLIGHT
TZOFFSETFROM:+0100
TZOFFSETTO:+0200
TZNAME:CEST
DTSTART:20270328T010000
END:DAYLIGHT
BEGIN:STANDARD
TZOFFSETFROM:+0200
TZOFFSETTO:+0100
TZNAME:CET
DTSTART:20271031T010000
END:STANDARD
END:VTIMEZONE
BEGIN:VEVENT
DTSTART;TZID=Europe/Berlin:20260320T170000
DTEND;TZID=Europe/Berlin:20260320T230000
DTSTAMP:20260424T124532
CREATED:20260124T221243Z
LAST-MODIFIED:20260124T221243Z
UID:5067-1774026000-1774047600@www.immelieb.de
SUMMARY:D.I.B.-Fachkundenachweis Honig – Teil B (Live-Web-Seminar)
DESCRIPTION:Interaktives Live-Web-Seminar (Teil B) zum „Fachkundenachweis Honig“ des Deutschen Imkerbundes e.V.\nInhalte: theoretische Grundlagen zu Honigentstehung\, hygienischer Ernte\, Verarbeitung\, Lagerung\, Vermarktung sowie rechtliche Grundlagen. Interaktiv\, begrenzte Teilnehmerzahl\, Fragen per Chat/Mikrofon. \nNach dem Seminar: Prüfungsbogen ausfüllen (Nachweis der theoretischen Fachkunde).\nKosten: 35 €.\nKontakt/Anmeldung: info@piaaumeier.de\nHinweis: Kursteile A (Praxis) und B (Theorie) sind frei kombinierbar.
URL:https://www.immelieb.de/event/d-i-b-fachkundenachweis-honig-teil-b-live-web-seminar/
LOCATION:Zoom-Webinar
ORGANIZER;CN="Dr. Pia Aumeier":MAILTO:info@piaaumeier.de
END:VEVENT
END:VCALENDAR