BEGIN:VCALENDAR
VERSION:2.0
PRODID:-//immelieb.de - ECPv6.15.20//NONSGML v1.0//EN
CALSCALE:GREGORIAN
METHOD:PUBLISH
X-WR-CALNAME:immelieb.de
X-ORIGINAL-URL:https://www.immelieb.de
X-WR-CALDESC:Veranstaltungen für immelieb.de
REFRESH-INTERVAL;VALUE=DURATION:PT1H
X-Robots-Tag:noindex
X-PUBLISHED-TTL:PT1H
BEGIN:VTIMEZONE
TZID:Europe/Berlin
BEGIN:DAYLIGHT
TZOFFSETFROM:+0100
TZOFFSETTO:+0200
TZNAME:CEST
DTSTART:20250330T010000
END:DAYLIGHT
BEGIN:STANDARD
TZOFFSETFROM:+0200
TZOFFSETTO:+0100
TZNAME:CET
DTSTART:20251026T010000
END:STANDARD
BEGIN:DAYLIGHT
TZOFFSETFROM:+0100
TZOFFSETTO:+0200
TZNAME:CEST
DTSTART:20260329T010000
END:DAYLIGHT
BEGIN:STANDARD
TZOFFSETFROM:+0200
TZOFFSETTO:+0100
TZNAME:CET
DTSTART:20261025T010000
END:STANDARD
BEGIN:DAYLIGHT
TZOFFSETFROM:+0100
TZOFFSETTO:+0200
TZNAME:CEST
DTSTART:20270328T010000
END:DAYLIGHT
BEGIN:STANDARD
TZOFFSETFROM:+0200
TZOFFSETTO:+0100
TZNAME:CET
DTSTART:20271031T010000
END:STANDARD
END:VTIMEZONE
BEGIN:VEVENT
DTSTART;VALUE=DATE:20260606
DTEND;VALUE=DATE:20260607
DTSTAMP:20260419T204503
CREATED:20260124T215108Z
LAST-MODIFIED:20260124T225246Z
UID:5032-1780704000-1780790399@www.immelieb.de
SUMMARY:Praxis (Duisburg): Honigernte
DESCRIPTION:Praxistermin im Rahmen des Ganzjahres-Einsteigerkurses 2026.\nKurszugang/Infos: www.lust-auf-eigenen-honig.de und www.piaaumeier.de/einsteiger
URL:https://www.immelieb.de/event/praxis-duisburg-honigernte-2/
LOCATION:Duisburg
ORGANIZER;CN="Dr. Pia Aumeier":MAILTO:info@piaaumeier.de
END:VEVENT
BEGIN:VEVENT
DTSTART;VALUE=DATE:20260614
DTEND;VALUE=DATE:20260615
DTSTAMP:20260419T204503
CREATED:20260124T215124Z
LAST-MODIFIED:20260124T225249Z
UID:5039-1781395200-1781481599@www.immelieb.de
SUMMARY:Praxis (Bochum/Witten): Honigernte
DESCRIPTION:Praxistermin im Rahmen des Ganzjahres-Einsteigerkurses 2026 (Bochum/Witten).\nInfos: www.piaaumeier.de/einsteiger
URL:https://www.immelieb.de/event/praxis-bochum-witten-honigernte-2/
LOCATION:Widarschule Bochum\, Deutschland
ORGANIZER;CN="Dr. Pia Aumeier":MAILTO:info@piaaumeier.de
END:VEVENT
BEGIN:VEVENT
DTSTART;TZID=Europe/Berlin:20260626T170000
DTEND;TZID=Europe/Berlin:20260626T230000
DTSTAMP:20260419T204503
CREATED:20260124T221243Z
LAST-MODIFIED:20260124T221243Z
UID:5068-1782493200-1782514800@www.immelieb.de
SUMMARY:D.I.B.-Fachkundenachweis Honig – Teil B (Live-Web-Seminar)
DESCRIPTION:Interaktives Live-Web-Seminar (Teil B) zum „Fachkundenachweis Honig“ des Deutschen Imkerbundes e.V.\nInhalte: theoretische Grundlagen zu Honigentstehung\, hygienischer Ernte\, Verarbeitung\, Lagerung\, Vermarktung sowie rechtliche Grundlagen. Interaktiv\, begrenzte Teilnehmerzahl\, Fragen per Chat/Mikrofon. \nNach dem Seminar: Prüfungsbogen ausfüllen (Nachweis der theoretischen Fachkunde).\nKosten: 35 €.\nKontakt/Anmeldung: info@piaaumeier.de\nHinweis: Kursteile A (Praxis) und B (Theorie) sind frei kombinierbar.
URL:https://www.immelieb.de/event/d-i-b-fachkundenachweis-honig-teil-b-live-web-seminar-2/
LOCATION:Zoom-Webinar
ORGANIZER;CN="Dr. Pia Aumeier":MAILTO:info@piaaumeier.de
END:VEVENT
BEGIN:VEVENT
DTSTART;TZID=Europe/Berlin:20260707T190000
DTEND;TZID=Europe/Berlin:20260707T210000
DTSTAMP:20260419T204503
CREATED:20260124T215154Z
LAST-MODIFIED:20260124T215154Z
UID:5051-1783450800-1783458000@www.immelieb.de
SUMMARY:Online-Abendkurs (Di): Seminar 5: Start Wintervorsorge; Varroa im Griff
DESCRIPTION:Live-Online-Abendkurs im Rahmen des Einsteigerkurses 2026.\nInfos: www.piaaumeier.de/einsteiger
URL:https://www.immelieb.de/event/online-abendkurs-di-seminar-5-start-wintervorsorge-varroa-im-griff-2/
LOCATION:Zoom-Webinar
ORGANIZER;CN="Dr. Pia Aumeier":MAILTO:info@piaaumeier.de
END:VEVENT
BEGIN:VEVENT
DTSTART;TZID=Europe/Berlin:20260709T190000
DTEND;TZID=Europe/Berlin:20260709T210000
DTSTAMP:20260419T204503
CREATED:20260124T215209Z
LAST-MODIFIED:20260124T215209Z
UID:5052-1783623600-1783630800@www.immelieb.de
SUMMARY:Online-Abendkurs (Do): Seminar 5: Start Wintervorsorge; Varroa im Griff
DESCRIPTION:Live-Online-Abendkurs im Rahmen des Einsteigerkurses 2026.\nInfos: www.piaaumeier.de/einsteiger
URL:https://www.immelieb.de/event/online-abendkurs-do-seminar-5-start-wintervorsorge-varroa-im-griff-2/
LOCATION:Zoom-Webinar
ORGANIZER;CN="Dr. Pia Aumeier":MAILTO:info@piaaumeier.de
END:VEVENT
BEGIN:VEVENT
DTSTART;TZID=Europe/Berlin:20260711T100000
DTEND;TZID=Europe/Berlin:20260711T170000
DTSTAMP:20260419T204503
CREATED:20260124T210012Z
LAST-MODIFIED:20260124T210012Z
UID:4939-1783764000-1783789200@www.immelieb.de
SUMMARY:BSV-Kurs: Populationsschätzung von Honigbienenvölkern
DESCRIPTION:Tagesseminar mit Theorie und Praxis zur fundierten Einschätzung von Honigbienenvölkern nach der Liebefelder Methode. \nReferentin: Dr. Pia Aumeier
URL:https://www.immelieb.de/event/bsv-kurs-populationsschaetzung-von-honigbienenvoelkern/
LOCATION:Gaststätte „Zum Anpfiff“ (Bochum)\, Urbanusstr. 55\, Bochum\, 44803\, Germany
ORGANIZER;CN="Dr. Pia Aumeier":MAILTO:info@piaaumeier.de
END:VEVENT
BEGIN:VEVENT
DTSTART;VALUE=DATE:20260718
DTEND;VALUE=DATE:20260719
DTSTAMP:20260419T204503
CREATED:20260124T215108Z
LAST-MODIFIED:20260124T225323Z
UID:5033-1784332800-1784419199@www.immelieb.de
SUMMARY:Praxis (Duisburg): Bienen gesund erhalten
DESCRIPTION:Praxistermin im Rahmen des Ganzjahres-Einsteigerkurses 2026.\nKurszugang/Infos: www.lust-auf-eigenen-honig.de und www.piaaumeier.de/einsteiger
URL:https://www.immelieb.de/event/praxis-duisburg-bienen-gesund-erhalten-2/
LOCATION:Duisburg
ORGANIZER;CN="Dr. Pia Aumeier":MAILTO:info@piaaumeier.de
END:VEVENT
BEGIN:VEVENT
DTSTART;VALUE=DATE:20260719
DTEND;VALUE=DATE:20260720
DTSTAMP:20260419T204503
CREATED:20260124T215124Z
LAST-MODIFIED:20260124T225330Z
UID:5040-1784419200-1784505599@www.immelieb.de
SUMMARY:Praxis (Bochum/Witten): Bienen gesund erhalten
DESCRIPTION:Praxistermin im Rahmen des Ganzjahres-Einsteigerkurses 2026 (Bochum/Witten).\nInfos: www.piaaumeier.de/einsteiger
URL:https://www.immelieb.de/event/praxis-bochum-witten-bienen-gesund-erhalten-2/
LOCATION:Widarschule Bochum\, Deutschland
ORGANIZER;CN="Dr. Pia Aumeier":MAILTO:info@piaaumeier.de
END:VEVENT
BEGIN:VEVENT
DTSTART;TZID=Europe/Berlin:20260725T100000
DTEND;TZID=Europe/Berlin:20260725T170000
DTSTAMP:20260419T204503
CREATED:20260124T224625Z
LAST-MODIFIED:20260124T224625Z
UID:5084-1784973600-1784998800@www.immelieb.de
SUMMARY:Fachkundenachweis Honig (D.I.B.) – Duisburg
DESCRIPTION:Fachkundenachweis Honig (D.I.B.) – Ganztagesseminar mit Theorie & Praxis. Referentin: Dr. Pia Aumeier. Inkl. Zertifikat. Details/Anmeldung siehe PDF.
URL:https://www.immelieb.de/event/fachkundenachweis-honig-d-i-b-duisburg/
LOCATION:Bienenmuseum Duisburg\, Schulallee 11\, Duisburg\, 47239\, Germany
ORGANIZER;CN="Dr. Pia Aumeier":MAILTO:info@piaaumeier.de
END:VEVENT
BEGIN:VEVENT
DTSTART;TZID=Europe/Berlin:20260818T190000
DTEND;TZID=Europe/Berlin:20260818T210000
DTSTAMP:20260419T204503
CREATED:20260124T215209Z
LAST-MODIFIED:20260124T215209Z
UID:5053-1787079600-1787086800@www.immelieb.de
SUMMARY:Online-Abendkurs (Di): Seminar 6: Spätsommerpflege der Jungvölker (Futter & Stärke)
DESCRIPTION:Live-Online-Abendkurs im Rahmen des Einsteigerkurses 2026.\nInfos: www.piaaumeier.de/einsteiger
URL:https://www.immelieb.de/event/online-abendkurs-di-seminar-6-spaetsommerpflege-der-jungvoelker-futter-staerke-2/
LOCATION:Zoom-Webinar
ORGANIZER;CN="Dr. Pia Aumeier":MAILTO:info@piaaumeier.de
END:VEVENT
BEGIN:VEVENT
DTSTART;TZID=Europe/Berlin:20260820T190000
DTEND;TZID=Europe/Berlin:20260820T210000
DTSTAMP:20260419T204503
CREATED:20260124T215210Z
LAST-MODIFIED:20260124T215210Z
UID:5054-1787252400-1787259600@www.immelieb.de
SUMMARY:Online-Abendkurs (Do): Seminar 6: Spätsommerpflege der Jungvölker (Futter & Stärke)
DESCRIPTION:Live-Online-Abendkurs im Rahmen des Einsteigerkurses 2026.\nInfos: www.piaaumeier.de/einsteiger
URL:https://www.immelieb.de/event/online-abendkurs-do-seminar-6-spaetsommerpflege-der-jungvoelker-futter-staerke-2/
LOCATION:Zoom-Webinar
ORGANIZER;CN="Dr. Pia Aumeier":MAILTO:info@piaaumeier.de
END:VEVENT
BEGIN:VEVENT
DTSTART;TZID=Europe/Berlin:20260829T100000
DTEND;TZID=Europe/Berlin:20260829T140000
DTSTAMP:20260419T204503
CREATED:20260124T221245Z
LAST-MODIFIED:20260124T221245Z
UID:5072-1787997600-1788012000@www.immelieb.de
SUMMARY:D.I.B.-Fachkundenachweis Honig – Teil A (Praxis)
DESCRIPTION:Praxisteil (Teil A) zum „Fachkundenachweis Honig“ des Deutschen Imkerbundes e.V.\nPraktische Erfahrung: sicherer & hygienischer Umgang mit Materialien\, wertvolle Praxistipps. \nAls Praxis anerkannt wird z. B. der Kursteil „Honig“ des ganzjährigen Einsteigerkurses.\nAlternativ: mehrstündige Praxisübungen bei Jörg Sterling (Honigobmann IV Rheinland).\nKosten: 35 €.\nAnmeldung mit Wunschtermin: info@piaaumeier.de und/oder https://www.urban-melli.de\nHinweis: Der Veranstaltungsort ist im PDF nicht angegeben (bitte ggf. ergänzen).
URL:https://www.immelieb.de/event/d-i-b-fachkundenachweis-honig-teil-a-praxis-2/
ORGANIZER;CN="Dr. Pia Aumeier":MAILTO:info@piaaumeier.de
END:VEVENT
BEGIN:VEVENT
DTSTART;TZID=Europe/Berlin:20260829T100000
DTEND;TZID=Europe/Berlin:20260829T160000
DTSTAMP:20260419T204503
CREATED:20260124T215303Z
LAST-MODIFIED:20260124T215303Z
UID:5064-1787997600-1788019200@www.immelieb.de
SUMMARY:Völkervermehrung & Königinnenaufzucht (Duisburg): Praxis 5: Was wurde draus? Spätsommerpflege für Jung- und Altvölker
DESCRIPTION:Praxiskurs „Völkervermehrung im Team mit integrierter Königinnenaufzucht“.\nBitte eine gute Brutwabe (mit Gesundheitszeugnis) mitbringen.\nAnmeldung: https://forms.gle/fDoFP2e9Z8LYrLXT6
URL:https://www.immelieb.de/event/voelkervermehrung-koeniginnenaufzucht-duisburg-praxis-5-was-wurde-draus-spaetsommerpflege-fuer-jung-und-altvoelker-2/
LOCATION:Bienenmuseum Duisburg\, Schulallee 11\, Duisburg\, 47239\, Germany
ORGANIZER;CN="Dr. Pia Aumeier":MAILTO:info@piaaumeier.de
END:VEVENT
BEGIN:VEVENT
DTSTART;TZID=Europe/Berlin:20260909T170000
DTEND;TZID=Europe/Berlin:20260909T230000
DTSTAMP:20260419T204503
CREATED:20260124T221244Z
LAST-MODIFIED:20260124T221244Z
UID:5069-1788973200-1788994800@www.immelieb.de
SUMMARY:D.I.B.-Fachkundenachweis Honig – Teil B (Live-Web-Seminar)
DESCRIPTION:Interaktives Live-Web-Seminar (Teil B) zum „Fachkundenachweis Honig“ des Deutschen Imkerbundes e.V.\nInhalte: theoretische Grundlagen zu Honigentstehung\, hygienischer Ernte\, Verarbeitung\, Lagerung\, Vermarktung sowie rechtliche Grundlagen. Interaktiv\, begrenzte Teilnehmerzahl\, Fragen per Chat/Mikrofon. \nNach dem Seminar: Prüfungsbogen ausfüllen (Nachweis der theoretischen Fachkunde).\nKosten: 35 €.\nKontakt/Anmeldung: info@piaaumeier.de\nHinweis: Kursteile A (Praxis) und B (Theorie) sind frei kombinierbar.
URL:https://www.immelieb.de/event/d-i-b-fachkundenachweis-honig-teil-b-live-web-seminar-3/
LOCATION:Zoom-Webinar
ORGANIZER;CN="Dr. Pia Aumeier":MAILTO:info@piaaumeier.de
END:VEVENT
BEGIN:VEVENT
DTSTART;VALUE=DATE:20260912
DTEND;VALUE=DATE:20260913
DTSTAMP:20260419T204503
CREATED:20260124T215108Z
LAST-MODIFIED:20260124T225416Z
UID:5034-1789171200-1789257599@www.immelieb.de
SUMMARY:Praxis (Duisburg): Wir sind winterfit
DESCRIPTION:Praxistermin im Rahmen des Ganzjahres-Einsteigerkurses 2026.\nKurszugang/Infos: www.lust-auf-eigenen-honig.de und www.piaaumeier.de/einsteiger
URL:https://www.immelieb.de/event/praxis-duisburg-wir-sind-winterfit-2/
LOCATION:Duisburg
ORGANIZER;CN="Dr. Pia Aumeier":MAILTO:info@piaaumeier.de
END:VEVENT
BEGIN:VEVENT
DTSTART;VALUE=DATE:20260920
DTEND;VALUE=DATE:20260921
DTSTAMP:20260419T204503
CREATED:20260124T215124Z
LAST-MODIFIED:20260124T225411Z
UID:5041-1789862400-1789948799@www.immelieb.de
SUMMARY:Praxis (Bochum/Witten): Wir sind winterfit
DESCRIPTION:Praxistermin im Rahmen des Ganzjahres-Einsteigerkurses 2026 (Bochum/Witten).\nInfos: www.piaaumeier.de/einsteiger
URL:https://www.immelieb.de/event/praxis-bochum-witten-wir-sind-winterfit-2/
LOCATION:Widarschule Bochum\, Deutschland
ORGANIZER;CN="Dr. Pia Aumeier":MAILTO:info@piaaumeier.de
END:VEVENT
BEGIN:VEVENT
DTSTART;TZID=Europe/Berlin:20261006T190000
DTEND;TZID=Europe/Berlin:20261006T210000
DTSTAMP:20260419T204503
CREATED:20260124T215210Z
LAST-MODIFIED:20260124T215210Z
UID:5055-1791313200-1791320400@www.immelieb.de
SUMMARY:Online-Abendkurs (Di): Seminar 7: Was lief schief? Fehleranalysen
DESCRIPTION:Live-Online-Abendkurs im Rahmen des Einsteigerkurses 2026.\nInfos: www.piaaumeier.de/einsteiger
URL:https://www.immelieb.de/event/online-abendkurs-di-seminar-7-was-lief-schief-fehleranalysen-2/
LOCATION:Zoom-Webinar
ORGANIZER;CN="Dr. Pia Aumeier":MAILTO:info@piaaumeier.de
END:VEVENT
BEGIN:VEVENT
DTSTART;TZID=Europe/Berlin:20261008T170000
DTEND;TZID=Europe/Berlin:20261008T190000
DTSTAMP:20260419T204503
CREATED:20260124T215210Z
LAST-MODIFIED:20260124T215210Z
UID:5056-1791478800-1791486000@www.immelieb.de
SUMMARY:Online-Abendkurs (Do): Seminar 7: Was lief schief? Fehleranalysen
DESCRIPTION:Live-Online-Abendkurs im Rahmen des Einsteigerkurses 2026.\nInfos: www.piaaumeier.de/einsteiger
URL:https://www.immelieb.de/event/online-abendkurs-do-seminar-7-was-lief-schief-fehleranalysen-2/
LOCATION:Zoom-Webinar
ORGANIZER;CN="Dr. Pia Aumeier":MAILTO:info@piaaumeier.de
END:VEVENT
BEGIN:VEVENT
DTSTART;VALUE=DATE:20261025
DTEND;VALUE=DATE:20261026
DTSTAMP:20260419T204503
CREATED:20260124T215138Z
LAST-MODIFIED:20260124T225439Z
UID:5042-1792886400-1792972799@www.immelieb.de
SUMMARY:Praxis (Bochum/Witten): Lief was schief?
DESCRIPTION:Praxistermin im Rahmen des Ganzjahres-Einsteigerkurses 2026 (Bochum/Witten).\nInfos: www.piaaumeier.de/einsteiger
URL:https://www.immelieb.de/event/praxis-bochum-witten-lief-was-schief-2/
LOCATION:Widarschule Bochum\, Deutschland
ORGANIZER;CN="Dr. Pia Aumeier":MAILTO:info@piaaumeier.de
END:VEVENT
BEGIN:VEVENT
DTSTART;TZID=Europe/Berlin:20261103T190000
DTEND;TZID=Europe/Berlin:20261103T210000
DTSTAMP:20260419T204503
CREATED:20260124T215225Z
LAST-MODIFIED:20260124T215225Z
UID:5057-1793732400-1793739600@www.immelieb.de
SUMMARY:Online-Abendkurs (Di): Seminar 8: Stark & gesund – was ist im Winter noch zu tun?
DESCRIPTION:Live-Online-Abendkurs im Rahmen des Einsteigerkurses 2026.\nInfos: www.piaaumeier.de/einsteiger
URL:https://www.immelieb.de/event/online-abendkurs-di-seminar-8-stark-gesund-was-ist-im-winter-noch-zu-tun-2/
LOCATION:Zoom-Webinar
ORGANIZER;CN="Dr. Pia Aumeier":MAILTO:info@piaaumeier.de
END:VEVENT
BEGIN:VEVENT
DTSTART;TZID=Europe/Berlin:20261105T170000
DTEND;TZID=Europe/Berlin:20261105T190000
DTSTAMP:20260419T204503
CREATED:20260124T215225Z
LAST-MODIFIED:20260124T215225Z
UID:5058-1793898000-1793905200@www.immelieb.de
SUMMARY:Online-Abendkurs (Do): Seminar 8: Stark & gesund – was ist im Winter noch zu tun?
DESCRIPTION:Live-Online-Abendkurs im Rahmen des Einsteigerkurses 2026.\nInfos: www.piaaumeier.de/einsteiger
URL:https://www.immelieb.de/event/online-abendkurs-do-seminar-8-stark-gesund-was-ist-im-winter-noch-zu-tun-2/
LOCATION:Zoom-Webinar
ORGANIZER;CN="Dr. Pia Aumeier":MAILTO:info@piaaumeier.de
END:VEVENT
BEGIN:VEVENT
DTSTART;VALUE=DATE:20261107
DTEND;VALUE=DATE:20261108
DTSTAMP:20260419T204503
CREATED:20260124T215108Z
LAST-MODIFIED:20260124T225541Z
UID:5035-1794009600-1794095999@www.immelieb.de
SUMMARY:Praxis (Duisburg): Lief was schief?
DESCRIPTION:Praxistermin im Rahmen des Ganzjahres-Einsteigerkurses 2026.\nKurszugang/Infos: www.lust-auf-eigenen-honig.de und www.piaaumeier.de/einsteiger
URL:https://www.immelieb.de/event/praxis-duisburg-lief-was-schief-2/
LOCATION:Duisburg
ORGANIZER;CN="Dr. Pia Aumeier":MAILTO:info@piaaumeier.de
END:VEVENT
BEGIN:VEVENT
DTSTART;TZID=Europe/Berlin:20261120T170000
DTEND;TZID=Europe/Berlin:20261120T230000
DTSTAMP:20260419T204503
CREATED:20260124T221244Z
LAST-MODIFIED:20260124T221244Z
UID:5070-1795194000-1795215600@www.immelieb.de
SUMMARY:D.I.B.-Fachkundenachweis Honig – Teil B (Live-Web-Seminar)
DESCRIPTION:Interaktives Live-Web-Seminar (Teil B) zum „Fachkundenachweis Honig“ des Deutschen Imkerbundes e.V.\nInhalte: theoretische Grundlagen zu Honigentstehung\, hygienischer Ernte\, Verarbeitung\, Lagerung\, Vermarktung sowie rechtliche Grundlagen. Interaktiv\, begrenzte Teilnehmerzahl\, Fragen per Chat/Mikrofon. \nNach dem Seminar: Prüfungsbogen ausfüllen (Nachweis der theoretischen Fachkunde).\nKosten: 35 €.\nKontakt/Anmeldung: info@piaaumeier.de\nHinweis: Kursteile A (Praxis) und B (Theorie) sind frei kombinierbar.
URL:https://www.immelieb.de/event/d-i-b-fachkundenachweis-honig-teil-b-live-web-seminar-4/
LOCATION:Zoom-Webinar
ORGANIZER;CN="Dr. Pia Aumeier":MAILTO:info@piaaumeier.de
END:VEVENT
BEGIN:VEVENT
DTSTART;TZID=Europe/Berlin:20261206T100000
DTEND;TZID=Europe/Berlin:20261206T150000
DTSTAMP:20260419T204503
CREATED:20260124T215107Z
LAST-MODIFIED:20260124T215107Z
UID:5028-1796551200-1796569200@www.immelieb.de
SUMMARY:Finaltag: Einsteigerkurs Imkerei 2026
DESCRIPTION:Finale des Rundum-Sorglos-Pakets 2026 (Einsteigerkurs).\nKostenfrei und offen auch für Nicht-Kursbucher.\nInfos: www.piaaumeier.de/einsteiger
URL:https://www.immelieb.de/event/finaltag-einsteigerkurs-imkerei-2026-2/
LOCATION:Widarschule Bochum\, Deutschland
ORGANIZER;CN="Dr. Pia Aumeier":MAILTO:info@piaaumeier.de
END:VEVENT
END:VCALENDAR