BEGIN:VCALENDAR
VERSION:2.0
PRODID:-//immelieb.de - ECPv6.15.20//NONSGML v1.0//EN
CALSCALE:GREGORIAN
METHOD:PUBLISH
X-ORIGINAL-URL:https://www.immelieb.de
X-WR-CALDESC:Veranstaltungen für immelieb.de
REFRESH-INTERVAL;VALUE=DURATION:PT1H
X-Robots-Tag:noindex
X-PUBLISHED-TTL:PT1H
BEGIN:VTIMEZONE
TZID:Europe/Berlin
BEGIN:DAYLIGHT
TZOFFSETFROM:+0100
TZOFFSETTO:+0200
TZNAME:CEST
DTSTART:20220327T010000
END:DAYLIGHT
BEGIN:STANDARD
TZOFFSETFROM:+0200
TZOFFSETTO:+0100
TZNAME:CET
DTSTART:20221030T010000
END:STANDARD
BEGIN:DAYLIGHT
TZOFFSETFROM:+0100
TZOFFSETTO:+0200
TZNAME:CEST
DTSTART:20230326T010000
END:DAYLIGHT
BEGIN:STANDARD
TZOFFSETFROM:+0200
TZOFFSETTO:+0100
TZNAME:CET
DTSTART:20231029T010000
END:STANDARD
BEGIN:DAYLIGHT
TZOFFSETFROM:+0100
TZOFFSETTO:+0200
TZNAME:CEST
DTSTART:20240331T010000
END:DAYLIGHT
BEGIN:STANDARD
TZOFFSETFROM:+0200
TZOFFSETTO:+0100
TZNAME:CET
DTSTART:20241027T010000
END:STANDARD
END:VTIMEZONE
BEGIN:VEVENT
DTSTART;TZID=Europe/Berlin:20230404T190000
DTEND;TZID=Europe/Berlin:20230404T190000
DTSTAMP:20260425T153611
CREATED:20230224T193959Z
LAST-MODIFIED:20230309T152202Z
UID:4390-1680634800-1680634800@www.immelieb.de
SUMMARY:Seminar 2: rasantes Wachstum\, wie gebe ich Raum & beuge Schwärmen vor?
DESCRIPTION:Wenn Du an Einsteigerkurs-Präsenzterminen zu diesem Thema teilnehmen möchtest\, schreibe an info@piaaumeier.de
URL:https://www.immelieb.de/event/seminar-2-rasantes-wachstum-wie-gebe-ich-raum-beuge-schwaermen-vor/
CATEGORIES:Einsteigerkurs Pia
ATTACH;FMTTYPE=image/jpeg:https://www.immelieb.de/wordpress/wp-content/uploads/2020/01/pia_bienen.jpg
ORGANIZER;CN="Dr. Pia Aumeier":MAILTO:info@piaaumeier.de
END:VEVENT
BEGIN:VEVENT
DTSTART;TZID=Europe/Berlin:20230406T170000
DTEND;TZID=Europe/Berlin:20230406T220000
DTSTAMP:20260425T153611
CREATED:20230307T223612Z
LAST-MODIFIED:20230309T152229Z
UID:4412-1680800400-1680818400@www.immelieb.de
SUMMARY:Seminar 2 vom Bienenstand: rasantes Wachstum\, wie gebe ich Raum & beuge Schwärmen vor?
DESCRIPTION:Wenn Du an Einsteigerkurs-Präsenzterminen zu diesem Thema teilnehmen möchtest\, schreibe an info@piaaumeier.de
URL:https://www.immelieb.de/event/seminar-2-vom-bienenstand-rasantes-wachstum-wie-gebe-ich-raum-beuge-schwaermen-vor/
CATEGORIES:Einsteigerkurs Pia
ATTACH;FMTTYPE=image/jpeg:https://www.immelieb.de/wordpress/wp-content/uploads/2022/03/youtube_live.jpg
ORGANIZER;CN="Dr. Pia Aumeier":MAILTO:info@piaaumeier.de
END:VEVENT
BEGIN:VEVENT
DTSTART;TZID=Europe/Berlin:20230423T160000
DTEND;TZID=Europe/Berlin:20230423T210000
DTSTAMP:20260425T153611
CREATED:20230419T195341Z
LAST-MODIFIED:20230419T195441Z
UID:4481-1682265600-1682283600@www.immelieb.de
SUMMARY:Webinar: Faktencheck Vespa velutina
DESCRIPTION:Webinar 23.April 23_Faktencheck Vespa velutina
URL:https://www.immelieb.de/event/faktencheck-vespa-velutina/
CATEGORIES:Sonstiges
ATTACH;FMTTYPE=image/jpeg:https://www.immelieb.de/wordpress/wp-content/uploads/2023/04/8628858432_8fb465e1ec_k.jpg
ORGANIZER;CN="Dr. Pia Aumeier":MAILTO:info@piaaumeier.de
END:VEVENT
END:VCALENDAR